BEGIN:VCALENDAR
VERSION:2.0
PRODID:-//wp-events-plugin.com//7.0.5//EN
TZID:America/Sao_Paulo
X-WR-TIMEZONE:America/Sao_Paulo
BEGIN:VEVENT
UID:180@floresdeiemanja.com.br
DTSTART;TZID=America/Sao_Paulo:20260506T193000
DTEND;TZID=America/Sao_Paulo:20260506T200000
DTSTAMP:20260423T112524Z
URL:https://floresdeiemanja.com.br/events/lote-1-reserva-da-feijoada-de-og
 um/
SUMMARY:Lote 1 - Reserva da Feijoada de Ogum
DESCRIPTION:Reserva da Feijoada de Ogum \n\n**********LEIA COM ATENÇÃO**
 ******** \n\nPotes com 750grs\, bem pesados\, de feijoada congelada. \n\
 nValor: Cada pote custa R$50\,00. \n\nPara garantir a sua\, além da rese
 rva aqui\, faça o pix para 11992023434\, e envie o comprovante para o Wha
 tsApp 11 99202-3434. Receba a confirmação e retire na data agendada. \n
 \nAs retiradas serão na data selecionada deste evento\, das 19:30 às 22:
 00 horas. \n\nA reserva da feijoada não é vinculada com a reserva de va
 gas para atendimento na gira.\n\nCaso a Feijoada não seja retirada na dat
 a da reserva programada\, ela será revendida durante a gira para outros i
 nteressados.
ATTACH;FMTTYPE=image/jpeg:https://floresdeiemanja.com.br/wp-content/upload
 s/2025/04/Feijoada.jpg
END:VEVENT
BEGIN:VTIMEZONE
TZID:America/Sao_Paulo
X-LIC-LOCATION:America/Sao_Paulo
BEGIN:STANDARD
DTSTART:20250506T193000
TZOFFSETFROM:-0300
TZOFFSETTO:-0300
TZNAME:-03
END:STANDARD
END:VTIMEZONE
END:VCALENDAR