BEGIN:VCALENDAR
VERSION:2.0
PRODID:-//wp-events-plugin.com//7.0.5//EN
TZID:America/Sao_Paulo
X-WR-TIMEZONE:America/Sao_Paulo
BEGIN:VEVENT
UID:131@floresdeiemanja.com.br
DTSTART;TZID=America/Sao_Paulo:20250820T200000
DTEND;TZID=America/Sao_Paulo:20250820T220000
DTSTAMP:20250819T204052Z
URL:https://floresdeiemanja.com.br/events/homenagem-ao-pai-obaluaye/
SUMMARY:Homenagem ao Pai Obaluaye
DESCRIPTION:Gira de atendimento  \n\n \n\nAs reservas estarão liberadas
  a partir do dia 19/08 ás 10:00. \n\n \n\n****IMPORTANTE - LEIA COM ATE
 NÇÃO**** \n\n \n\nSe sua reserva for para mais de uma pessoa ou for pa
 ra uma pessoa que não seja você\, preencha o campo "Nomes das reservas" 
 com o nome das pessoas que irão ao trabalho. A quantidade de nomes não p
 ode exceder a quantidade de reservas (Máximo de 3 reservas por conta). \
 n\nA sua reserva ficará pendente de aprovação\, portanto\, acompanhe o 
 e-mail cadastrado na sua conta para receber a confirmação da sua reserva
 . Reservas não aprovadas não passarão por atendimento. \n\n \n\nSe vo
 cê não encontrar alguma das opções (Passe ou Atendimento) no momento d
 a reserva\, significa que as fichas para aquela opção estão esgotadas. 
 Somente a opção disponível poderá ser reservada. \n\n \n\nNÃO RESER
 VE UM ESPAÇO BUSCANDO OCUPAR OUTRO! \n\n \n\nEm caso de desistência ou
  cancelamento da reserva\, favor informar o terreiro através do whatsapp 
 (11) 99202-3434 até as 14:00 horas do dia do trabalho reservado. \n\n \
 n\nCaso o cancelamento não seja feito dentro do período determinado\, su
 a  próxima reserva poderá ser despriorizada em caso de lotação. \n\
 n \n\nCrianças até 12 anos não tem necessidade de agendamento e devem 
 ser atendidos obrigatoriamente na presença do responsável (Lei n°8069/1
 990 do Estatuto da Criança e do Adolescente). \n\n \n\nAdolescentes a p
 artir de 13 anos devem ter a reserva solicitada e aprovada e o atendimento
  pode ser feito individualmente em acordo com os responsáveis. \n\n \n\
 nEm caso de atendimento preferencial\, comparecer ao terreiro portando os 
 documentos obrigatórios de identificação da necessidade. 
END:VEVENT
BEGIN:VTIMEZONE
TZID:America/Sao_Paulo
X-LIC-LOCATION:America/Sao_Paulo
BEGIN:STANDARD
DTSTART:20240820T200000
TZOFFSETFROM:-0300
TZOFFSETTO:-0300
TZNAME:-03
END:STANDARD
END:VTIMEZONE
END:VCALENDAR